Workbook
Name 西多久町: Sheet2!$C$8
Name 多久町: Sheet2!$C$7
Name 東多久町: Sheet2!$C$2:$C$3
Name 南多久町: Sheet2!$C$4:$C$6
Name 北多久町: Sheet2!$C$9:$C$10

Sheet 様式5　促進計画（出し手→機構→受け手）
B1: 様式5 農用地利用集積等促進計画書（所有者→機構→借受者） | P1: 地域計画
B3: １ 各筆明細
B4: 区分 | C4: 1 設定 | D4: 申 出 人 | E4: 権利の設定をする者「甲」 （所有者） | H4: 住 所 | M4: 固定電話 | P4: （ ）農業者年金受給者
H5: 氏名・名称 | M5: 携帯電話 | P5: （ ）納税猶予該当者
E6: 農地中間管理機構 「乙」 | H6: 住 所 | I6: 佐賀県小城市芦刈町三王崎１５２２番地 | M6: 代表電話 | N6: 0952-20-1590
H7: 氏名・名称 | I7: 公益社団法人 佐賀県農業公社 理事長 井手 宣拓
E8: 権利の設定を受ける者「丙」（借受者） | H8: 住 所 | M8: 固定電話 | P8: （ ）農業者年金受給者 | R8: 従事日数
H9: 氏名・名称 | M9: 携帯電話 | P9: （ ）納税猶予該当者 | R9: 日
B11: 権利の設定をする土地（A） | K11: 設定する権利（B）
B12: 番号 | C12: 所 在 | H12: 現況地目 | I12: 面積 (㎡) | K12: 権利の種類 | L12: 利用内容 | M12: 始期 | N12: 終期 | O12: 存続期間 | P12: 借賃 | R12: 新規・更新 の別
C13: 町 | E13: 大字 | F13: 字 | G13: 地番 | I13: 現況 | J13: 賃料算定 | P13: 10ａ当り | Q13: 年額
A14: 0 | B14: =IF(OR(C14="東多久町",C14="南多久町",C14="多久町",C14="西多久町",C14="北多久町"),A14+1,"") | R14: 新規・更新
B15: =IF(OR(C15="東多久町",C15="南多久町",C15="多久町",C15="西多久町",C15="北多久町"),B14+1,"") | R15: 新規・更新
B16: =IF(OR(C16="東多久町",C16="南多久町",C16="多久町",C16="西多久町",C16="北多久町"),B15+1,"") | R16: 新規・更新
B17: =IF(OR(C17="東多久町",C17="南多久町",C17="多久町",C17="西多久町",C17="北多久町"),B16+1,"") | R17: 新規・更新
B18: =IF(OR(C18="東多久町",C18="南多久町",C18="多久町",C18="西多久町",C18="北多久町"),B17+1,"") | R18: 新規・更新
B19: =IF(OR(C19="東多久町",C19="南多久町",C19="多久町",C19="西多久町",C19="北多久町"),B18+1,"") | R19: 新規・更新
B20: =IF(OR(C20="東多久町",C20="南多久町",C20="多久町",C20="西多久町",C20="北多久町"),B19+1,"") | R20: 新規・更新
B21: =IF(OR(C21="東多久町",C21="南多久町",C21="多久町",C21="西多久町",C21="北多久町"),B20+1,"") | R21: 新規・更新
B22: =IF(OR(C22="東多久町",C22="南多久町",C22="多久町",C22="西多久町",C22="北多久町"),B21+1,"") | R22: 新規・更新
B23: =IF(OR(C23="東多久町",C23="南多久町",C23="多久町",C23="西多久町",C23="北多久町"),B22+1,"") | R23: 新規・更新
B24: 合 計 | E24: 筆 数 | F24: =IF(COUNT(B14:B23)=0,"",COUNT(B14:B23)) | H24: 面 積 | I24: =IF(SUM(I14:I23)=0,"",SUM(I14:I23)) | K24: （A）借賃計 | M24: （B）手数料（1％） ＋消費税等 | O24: 所有者総計 （A-B） | Q24: 借受者総計 （A＋B）
B25: ※借賃の支払方法 | Q25: 総計 | R25: =SUMIF(W23:W23,"FALSE",Q14:Q23) -> 0
B26: ・ | C26: 10月1日に権利設定があるものを対象とし、丙は乙へ、存続期間の毎年12月10日（金融機関が休日の場合は翌営業日）までに下記口座へ振込み又は口座振替により賃料を支払う。
B27: ・ | C27: 10月1日に権利設定があるものを対象とし、乙は甲へ、存続期間の毎年12月25日（金融機関が休日の場合は前営業日）に、指定口座に賃料を支払う。
B28: ・ | C28: 甲と丙は、手数料として、毎年賃料の1％とその手数料にかかる消費税等を負担する。乙は、借賃計から手数料等を差し引いた額を甲に振込み、丙は借賃計に手数料等を加えた額を乙に納入する。
B29: ・ 各筆の借賃年額は、100円未満切り捨てとし、太枠内（借賃の年額・借賃計・手数料＋消費税等・所有者総計・借受者総計）は公社で記入する。 | O29: 農業委員・農地利用最適化推進委員 氏名（C）
B30: ・ | C30: 物納については、「甲」と「丙」自らの責によるものとし、受渡しについては、「乙」を介せず直接行うものとする。
B31: 共通事項（別紙）を了承し、この計画に同意する。
B32: また、権利の設定を受ける者「丙」は、「農地法その他の農業に関する法令」の遵守状況等について3年間違反がない旨申告します。 | O32: 農作業に従事する者の配置状況
B33: 権利の設定をする者「甲」 | F33: フリガナ | J33: ㊞ | K33: （同意日： | L33: 令和 年 月 日） | O33: 市町名 | P33: 氏名 | R33: 住所地等
F34: 氏名・名称
B35: 農地中間管理機構 「乙」 | F35: 氏名・名称 | G35: 公益社団法人 佐賀県農業公社 理事長 井手 宣拓 | J35: ㊞ | K35: （同意日： | L35: 令和 年 月 日）
F36: フリガナ | J36: ㊞ | K36: （同意日： | L36: 令和 年 月 日）
B37: 権利の設定を受ける者「丙」 | F37: 氏名・名称
K38: ※同意日は、押印日を記入 | O38: ※複数市町で耕作する場合は、上記に記入

Sheet 追加申請農地
A1: （様式5の別紙）
B2: １ 各筆明細
B3: 権利の設定をする土地（A） | K3: 設定する権利（B）
B4: 番号 | C4: 所 在 | H4: 現況地目 | I4: 面積 (㎡) | K4: 権利の種類 | L4: 利用内容 | M4: 始期 | N4: 終期 | O4: 存続期間 | P4: 借賃 | R4: 新規・更新 の別
C5: 町 | E5: 大字 | F5: 字 | G5: 地番 | I5: 現況 | J5: 賃料算定 | P5: 10ａ当り | Q5: 年額
A6: 0 | B6: {=_xlfn.IFS(AND(AND('様式5 促進計画（出し手→機構→受け手）'!B14<>"",'様式5 促進計画（出し手→機構→受け手）'!B23<>""),OR(C6="東多久町",C6="南多久町",C6="多久町",C6="西多久町",C6="北多久町")),'様式5 促進計画（出し手→機構→受け手）'!B23+1,AND(OR('様式5 促進計画（出し手→機構→受け手）'!B14="",'様式5 促進計画（出し手→機構→受け手）'!B23=""),OR(C6="東多久町",C6="南多久町",C6="多久町",C6="西多久町",C6="北多久町")),A6+1,C6="","")} | R6: 新規・更新
B7: {=_xlfn.IFS(AND(AND('様式5 促進計画（出し手→機構→受け手）'!B15<>"",'様式5 促進計画（出し手→機構→受け手）'!B24<>""),OR(C7="東多久町",C7="南多久町",C7="多久町",C7="西多久町",C7="北多久町")),#REF!+1,AND(OR('様式5 促進計画（出し手→機構→受け手）'!B15="",'様式5 促進計画（出し手→機構→受け手）'!B24=""),OR(C7="東多久町",C7="南多久町",C7="多久町",C7="西多久町",C7="北多久町")),A7+1,C7="","")} | R7: 新規・更新
B8: {=_xlfn.IFS(AND(AND('様式5 促進計画（出し手→機構→受け手）'!B16<>"",'様式5 促進計画（出し手→機構→受け手）'!B25<>""),OR(C8="東多久町",C8="南多久町",C8="多久町",C8="西多久町",C8="北多久町")),#REF!+1,AND(OR('様式5 促進計画（出し手→機構→受け手）'!B16="",'様式5 促進計画（出し手→機構→受け手）'!B25=""),OR(C8="東多久町",C8="南多久町",C8="多久町",C8="西多久町",C8="北多久町")),A8+1,C8="","")} | R8: 新規・更新
B9: {=_xlfn.IFS(AND(AND('様式5 促進計画（出し手→機構→受け手）'!B17<>"",'様式5 促進計画（出し手→機構→受け手）'!B26<>""),OR(C9="東多久町",C9="南多久町",C9="多久町",C9="西多久町",C9="北多久町")),#REF!+1,AND(OR('様式5 促進計画（出し手→機構→受け手）'!B17="",'様式5 促進計画（出し手→機構→受け手）'!B26=""),OR(C9="東多久町",C9="南多久町",C9="多久町",C9="西多久町",C9="北多久町")),A9+1,C9="","")} | R9: 新規・更新
B10: {=_xlfn.IFS(AND(AND('様式5 促進計画（出し手→機構→受け手）'!B18<>"",'様式5 促進計画（出し手→機構→受け手）'!B27<>""),OR(C10="東多久町",C10="南多久町",C10="多久町",C10="西多久町",C10="北多久町")),#REF!+1,AND(OR('様式5 促進計画（出し手→機構→受け手）'!B18="",'様式5 促進計画（出し手→機構→受け手）'!B27=""),OR(C10="東多久町",C10="南多久町",C10="多久町",C10="西多久町",C10="北多久町")),A10+1,C10="","")} | R10: 新規・更新
B11: {=_xlfn.IFS(AND(AND('様式5 促進計画（出し手→機構→受け手）'!B19<>"",'様式5 促進計画（出し手→機構→受け手）'!B28<>""),OR(C11="東多久町",C11="南多久町",C11="多久町",C11="西多久町",C11="北多久町")),#REF!+1,AND(OR('様式5 促進計画（出し手→機構→受け手）'!B19="",'様式5 促進計画（出し手→機構→受け手）'!B28=""),OR(C11="東多久町",C11="南多久町",C11="多久町",C11="西多久町",C11="北多久町")),A11+1,C11="","")} | R11: 新規・更新
B12: {=_xlfn.IFS(AND(AND('様式5 促進計画（出し手→機構→受け手）'!B20<>"",'様式5 促進計画（出し手→機構→受け手）'!B29<>""),OR(C12="東多久町",C12="南多久町",C12="多久町",C12="西多久町",C12="北多久町")),#REF!+1,AND(OR('様式5 促進計画（出し手→機構→受け手）'!B20="",'様式5 促進計画（出し手→機構→受け手）'!B29=""),OR(C12="東多久町",C12="南多久町",C12="多久町",C12="西多久町",C12="北多久町")),A12+1,C12="","")} | R12: 新規・更新
B13: {=_xlfn.IFS(AND(AND('様式5 促進計画（出し手→機構→受け手）'!B21<>"",'様式5 促進計画（出し手→機構→受け手）'!B30<>""),OR(C13="東多久町",C13="南多久町",C13="多久町",C13="西多久町",C13="北多久町")),#REF!+1,AND(OR('様式5 促進計画（出し手→機構→受け手）'!B21="",'様式5 促進計画（出し手→機構→受け手）'!B30=""),OR(C13="東多久町",C13="南多久町",C13="多久町",C13="西多久町",C13="北多久町")),A13+1,C13="","")} | R13: 新規・更新
B14: {=_xlfn.IFS(AND(AND('様式5 促進計画（出し手→機構→受け手）'!B22<>"",'様式5 促進計画（出し手→機構→受け手）'!B31<>""),OR(C14="東多久町",C14="南多久町",C14="多久町",C14="西多久町",C14="北多久町")),#REF!+1,AND(OR('様式5 促進計画（出し手→機構→受け手）'!B22="",'様式5 促進計画（出し手→機構→受け手）'!B31=""),OR(C14="東多久町",C14="南多久町",C14="多久町",C14="西多久町",C14="北多久町")),A14+1,C14="","")} | R14: 新規・更新
B15: {=_xlfn.IFS(AND(AND('様式5 促進計画（出し手→機構→受け手）'!B23<>"",'様式5 促進計画（出し手→機構→受け手）'!B32<>""),OR(C15="東多久町",C15="南多久町",C15="多久町",C15="西多久町",C15="北多久町")),#REF!+1,AND(OR('様式5 促進計画（出し手→機構→受け手）'!B23="",'様式5 促進計画（出し手→機構→受け手）'!B32=""),OR(C15="東多久町",C15="南多久町",C15="多久町",C15="西多久町",C15="北多久町")),A15+1,C15="","")} | R15: 新規・更新
B16: {=_xlfn.IFS(AND(AND('様式5 促進計画（出し手→機構→受け手）'!B24<>"",'様式5 促進計画（出し手→機構→受け手）'!B33<>""),OR(C16="東多久町",C16="南多久町",C16="多久町",C16="西多久町",C16="北多久町")),#REF!+1,AND(OR('様式5 促進計画（出し手→機構→受け手）'!B24="",'様式5 促進計画（出し手→機構→受け手）'!B33=""),OR(C16="東多久町",C16="南多久町",C16="多久町",C16="西多久町",C16="北多久町")),A16+1,C16="","")} | R16: 新規・更新
B17: {=_xlfn.IFS(AND(AND('様式5 促進計画（出し手→機構→受け手）'!B25<>"",'様式5 促進計画（出し手→機構→受け手）'!B34<>""),OR(C17="東多久町",C17="南多久町",C17="多久町",C17="西多久町",C17="北多久町")),#REF!+1,AND(OR('様式5 促進計画（出し手→機構→受け手）'!B25="",'様式5 促進計画（出し手→機構→受け手）'!B34=""),OR(C17="東多久町",C17="南多久町",C17="多久町",C17="西多久町",C17="北多久町")),A17+1,C17="","")} | R17: 新規・更新
B18: {=_xlfn.IFS(AND(AND('様式5 促進計画（出し手→機構→受け手）'!B26<>"",'様式5 促進計画（出し手→機構→受け手）'!B35<>""),OR(C18="東多久町",C18="南多久町",C18="多久町",C18="西多久町",C18="北多久町")),#REF!+1,AND(OR('様式5 促進計画（出し手→機構→受け手）'!B26="",'様式5 促進計画（出し手→機構→受け手）'!B35=""),OR(C18="東多久町",C18="南多久町",C18="多久町",C18="西多久町",C18="北多久町")),A18+1,C18="","")} | R18: 新規・更新
... B25: {=_xlfn.IFS(AND(AND('様式5 促進計画（出し手→機構→受け手）'!B33<>"",'様式5 促進計画（出し手→機構→受け手）'!B42<>""),OR(C25="東多久町",C25="南多久町",C25="多久町",C25="西多久町",C25="北多久町")),#REF!+1,AND(OR('様式5 促進計画（出し手→機構→受け手）'!B33="",'様式5 促進計画（出し手→機構→受け手）'!B42=""),OR(C25="東多久町",C25="南多久町",C25="多久町",C25="西多久町",C25="北多久町")),A25+1,C25="","")} | R25: 新規・更新
B26: 合 計 | E26: 筆 数 | F26: =IF(COUNT(B6:B25)=0,"",COUNT(B6:B25)) | H26: 面 積 | I26: =IF(SUM(I6:I25)=0,"",SUM(I6:I25)) | K26: （A）借賃計 | M26: （B）手数料（1％）＋消費税等 | O26: 所有者総計 （A-B） | Q26: 借受者総計 （A＋B）
B27: 総計 | E27: 筆 数 | F27: {=_xlfn.IFS('様式5 促進計画（出し手→機構→受け手）'!F24="",F26,AND('様式5 促進計画（出し手→機構→受け手）'!F24<>"",F26<>""),'様式5 促進計画（出し手→機構→受け手）'!F24+F26,AND('様式5 促進計画（出し手→機構→受け手）'!F24<>"",F26=""),"")} | H27: 面 積 | I27: =IFERROR(I26+'様式5 促進計画（出し手→機構→受け手）'!I24,"") | K27: （A）借賃計 | M27: （B）手数料（1％）＋消費税等 | O27: 所有者総計 （A-B） | Q27: 借受者総計 （A＋B）
Q28: 総計 | R28: =SUMIF(W1:W25,"FALSE",Q1:Q25) -> 0

Sheet Sheet2
B1: 町 | C1: 大字 | E1: 賃借権
B2: 東多久町 | C2: 納所 | E2: 使用貸借
B3: 南多久町 | C3: 別府
B4: 多久町 | C4: 花祭
B5: 西多久町 | C5: 下多久
B6: 北多久町 | C6: 長尾
C8: 板屋
C9: 多久原
C10: 小侍
